BEGIN:VCALENDAR
VERSION:2.0
PRODID:-//Big I Connecticut - ECPv6.15.17.1//NONSGML v1.0//EN
CALSCALE:GREGORIAN
METHOD:PUBLISH
X-WR-CALNAME:Big I Connecticut
X-ORIGINAL-URL:https://www.bigict.org
X-WR-CALDESC:Events for Big I Connecticut
REFRESH-INTERVAL;VALUE=DURATION:PT1H
X-Robots-Tag:noindex
X-PUBLISHED-TTL:PT1H
BEGIN:VTIMEZONE
TZID:UTC
BEGIN:STANDARD
TZOFFSETFROM:+0000
TZOFFSETTO:+0000
TZNAME:UTC
DTSTART:20250101T000000
END:STANDARD
END:VTIMEZONE
BEGIN:VEVENT
DTSTART;TZID=UTC:20260520T093000
DTEND;TZID=UTC:20260520T150000
DTSTAMP:20260423T125914
CREATED:20260325T205514Z
LAST-MODIFIED:20260325T205625Z
UID:10000003-1779269400-1779289200@www.bigict.org
SUMMARY:Big I Connecticut Insurance Women's Summit
DESCRIPTION:The Big I CT Insurance Women’s Summit is back\, and this year\, we’re bringing a fresh perspective to the conversation.\n\n\n\nJoin us for a dynamic day of connection\, inspiration\, and skill-building designed for women across the insurance industry. From meaningful networking and engaging discussions to practical takeaways you can apply immediately\, this summit is built to help you grow both professionally and personally. \nWe’re excited to introduce a new group of panelists to our “No Bad Questions: Real Talk” session\, featuring accomplished Connecticut women entrepreneurs outside of the insurance industry from businesses that you may already know! From fashion\, distilling\, and travel\, these women are innovators\, business owners\, and customers themselves. Through anonymous Q&A and honest dialogue\, they’ll share insights on leadership\, resilience\, customer experience\, and navigating challenges at every stage of business and life. \nYou’ll also gain actionable tools in our interactive workshop\, “From Tension to Teamwork: Communicating Effectively with Anyone\,” focused on intergenerational communication and handling difficult conversations with confidence. Stay tuned for more details on our other sessions– but trust us\, it’s worth the wait. \nAnd remember\, whether you’re early in your career or a seasoned professional\, this summit is your space to connect\, reflect\, and level up alongside a powerful community of women. \nWe can’t wait to grow stronger with you! \n\n\n\n\n\n\n\n\n\nRegister Now! >
URL:https://www.bigict.org/event/big-i-connecticut-insurance-womens-summit/
LOCATION:Saint Clements Castle & Marina\, 1931 Portland-Cobalt Rd\, Portland\, CT\, 06480\, United States
CATEGORIES:Big I CT
ATTACH;FMTTYPE=image/webp:https://www.bigict.org/wp-content/uploads/sites/11/2026/03/CTWS_2025.webp
ORGANIZER;CN="Big I Connecticut":MAILTO:team@bigic​t.org
END:VEVENT
BEGIN:VEVENT
DTSTART;TZID=UTC:20260806T084500
DTEND;TZID=UTC:20260806T170000
DTSTAMP:20260423T125914
CREATED:20260401T203736Z
LAST-MODIFIED:20260401T203736Z
UID:10000004-1786005900-1786035600@www.bigict.org
SUMMARY:Golf Tournament
DESCRIPTION:Get Ready to Hit the Green with Big I CT\nStart prepping for this year’s premier day of golf\, networking\, and fun with other agents and industry partners! It’s going to be a great day of golf and socializing. \nThere will be a cookout lunch\, cash prize contests\, and time to catch up with friends and make new business connections during the Social Reception. We’ll be playing both courses\, and the best team on each course will win cash and bragging rights. \nSave time and money by purchasing your mulligan\, raffle ticket\, and 50/50 tee shot entry when you register. You’ll receive your bundle when you check in at the tournament. \nNot a golfer? Not a problem– join us for drinks\, food\, and fun during the Social Reception. We’ll be installing the 2026–2027 Big I CT Officers & Board of Directors\, setting the stage for another great year of leadership and serving our community. \nRegister Now! >
URL:https://www.bigict.org/event/golf-tournament/
LOCATION:Tunxis Country Club\, 87 Town Farm Rd\, Farmington\, CT\, 06032\, United States
CATEGORIES:Big I CT
ATTACH;FMTTYPE=image/png:https://www.bigict.org/wp-content/uploads/sites/11/2026/04/Event_Golf_Tournament.png
ORGANIZER;CN="Big I Connecticut":MAILTO:team@bigic​t.org
END:VEVENT
BEGIN:VEVENT
DTSTART;VALUE=DATE:20261105
DTEND;VALUE=DATE:20261106
DTSTAMP:20260423T125914
CREATED:20260323T133909Z
LAST-MODIFIED:20260323T133911Z
UID:10000001-1793836800-1793923199@www.bigict.org
SUMMARY:CONNECT 2026
DESCRIPTION:
URL:https://www.bigict.org/event/connect-2026/
LOCATION:Bristol Event Center\, 112 Century Dr\, Bristol\, CT\, 06010\, United States
CATEGORIES:Big I CT
ATTACH;FMTTYPE=image/webp:https://www.bigict.org/wp-content/uploads/sites/11/2026/03/CONNECT_2026_Featured_Image.webp
END:VEVENT
END:VCALENDAR